BEGIN:VCALENDAR
METHOD:PUBLISH
VERSION:2.0
PRODID:-//DG Official Visit-Atlanta Southern Cresent Project//Calendar//EN

BEGIN:VEVENT
SUMMARY:DG Official Visit-Atlanta Southern Cresent Project
DESCRIPTION:
X-ALT-DESC:
UID:Event7065
DTSTART:20231219T200000Z
DTEND:20231219T200000Z
DTSTAMP:20230521T004122Z
LAST-MODIFIED:20230521T010228Z
END:VEVENT

END:VCALENDAR