BEGIN:VCALENDAR
METHOD:PUBLISH
VERSION:2.0
PRODID:-//DG Official Visit-Buckhead//Calendar//EN

BEGIN:VEVENT
SUMMARY:DG Official Visit-Buckhead
DESCRIPTION:
X-ALT-DESC:
UID:Event7068
DTSTART:20231030T161500Z
DTEND:20231030T161500Z
DTSTAMP:20230521T004440Z
LAST-MODIFIED:20230521T004440Z
END:VEVENT

END:VCALENDAR