BEGIN:VCALENDAR
METHOD:PUBLISH
VERSION:2.0
PRODID:-//Zone Institute-Bahamas//Calendar//EN

BEGIN:VEVENT
SUMMARY:Zone Institute-Bahamas
DESCRIPTION:
X-ALT-DESC:
UID:Event7069
DTSTART:20231023T040000Z
DTEND:20231029T040000Z
DTSTAMP:20230521T004539Z
LAST-MODIFIED:20231020T184255Z
END:VEVENT

END:VCALENDAR