BEGIN:VCALENDAR
METHOD:PUBLISH
VERSION:2.0
PRODID:-//DG Official Visit-Douglas//Calendar//EN

BEGIN:VEVENT
SUMMARY:DG Official Visit-Douglas
DESCRIPTION:
X-ALT-DESC:
UID:Event7071
DTSTART:20231002T154500Z
DTEND:20231002T154500Z
DTSTAMP:20230521T004659Z
LAST-MODIFIED:20230521T004659Z
END:VEVENT

END:VCALENDAR