BEGIN:VCALENDAR
METHOD:PUBLISH
VERSION:2.0
PRODID:-//DG Official Visit-Albany//Calendar//EN

BEGIN:VEVENT
SUMMARY:DG Official Visit-Albany
DESCRIPTION:
X-ALT-DESC:
UID:Event7072
DTSTART:20231116T170000Z
DTEND:20231116T170000Z
DTSTAMP:20230521T004704Z
LAST-MODIFIED:20230919T223638Z
END:VEVENT

END:VCALENDAR