BEGIN:VCALENDAR
METHOD:PUBLISH
VERSION:2.0
PRODID:-//DG Official Visit-Dunwoody//Calendar//EN

BEGIN:VEVENT
SUMMARY:DG Official Visit-Dunwoody
DESCRIPTION:
X-ALT-DESC:
UID:Event7074
DTSTART:20231006T111500Z
DTEND:20231006T111500Z
DTSTAMP:20230521T004835Z
LAST-MODIFIED:20230521T004835Z
END:VEVENT

END:VCALENDAR