BEGIN:VCALENDAR
METHOD:PUBLISH
VERSION:2.0
PRODID:-//DG Official Visit- Polk //Calendar//EN

BEGIN:VEVENT
SUMMARY:DG Official Visit- Polk 
DESCRIPTION:
X-ALT-DESC:
UID:Event7075
DTSTART:20231003T160000Z
DTEND:20231003T160000Z
DTSTAMP:20230521T004841Z
LAST-MODIFIED:20230521T004841Z
END:VEVENT

END:VCALENDAR