BEGIN:VCALENDAR
METHOD:PUBLISH
VERSION:2.0
PRODID:-//DG Official Visit-Bremen//Calendar//EN

BEGIN:VEVENT
SUMMARY:DG Official Visit-Bremen
DESCRIPTION:
X-ALT-DESC:
UID:Event7076
DTSTART:20231019T163000Z
DTEND:20231019T163000Z
DTSTAMP:20230521T004906Z
LAST-MODIFIED:20230822T022825Z
END:VEVENT

END:VCALENDAR