BEGIN:VCALENDAR
METHOD:PUBLISH
VERSION:2.0
PRODID:-//DG Official Visit-Camilla//Calendar//EN

BEGIN:VEVENT
SUMMARY:DG Official Visit-Camilla
DESCRIPTION:
X-ALT-DESC:
UID:Event7077
DTSTART:20231130T170000Z
DTEND:20231130T170000Z
DTSTAMP:20230521T005019Z
LAST-MODIFIED:20230521T005019Z
END:VEVENT

END:VCALENDAR