BEGIN:VCALENDAR
METHOD:PUBLISH
VERSION:2.0
PRODID:-//DG Official Visit-Pelham//Calendar//EN

BEGIN:VEVENT
SUMMARY:DG Official Visit-Pelham
DESCRIPTION:
X-ALT-DESC:
UID:Event7078
DTSTART:20231128T170000Z
DTEND:20231128T170000Z
DTSTAMP:20230521T005118Z
LAST-MODIFIED:20230521T005118Z
END:VEVENT

END:VCALENDAR