BEGIN:VCALENDAR
METHOD:PUBLISH
VERSION:2.0
PRODID:-//DG Official Visit-Americus//Calendar//EN

BEGIN:VEVENT
SUMMARY:DG Official Visit-Americus
DESCRIPTION:
X-ALT-DESC:
UID:Event7079
DTSTART:20230829T170000Z
DTEND:20230829T170000Z
DTSTAMP:20230521T005301Z
LAST-MODIFIED:20230706T005001Z
END:VEVENT

END:VCALENDAR