BEGIN:VCALENDAR
METHOD:PUBLISH
VERSION:2.0
PRODID:-//DG Official Visit-East Cobb//Calendar//EN

BEGIN:VEVENT
SUMMARY:DG Official Visit-East Cobb
DESCRIPTION:
X-ALT-DESC:
UID:Event7080
DTSTART:20231018T110000Z
DTEND:20231018T110000Z
DTSTAMP:20230521T005412Z
LAST-MODIFIED:20230709T124315Z
END:VEVENT

END:VCALENDAR