BEGIN:VCALENDAR
METHOD:PUBLISH
VERSION:2.0
PRODID:-//DG Official Visit-Paulding County//Calendar//EN

BEGIN:VEVENT
SUMMARY:DG Official Visit-Paulding County
DESCRIPTION:
X-ALT-DESC:
UID:Event7082
DTSTART:20231114T170000Z
DTEND:20231114T170000Z
DTSTAMP:20230521T005445Z
LAST-MODIFIED:20230521T005445Z
END:VEVENT

END:VCALENDAR