BEGIN:VCALENDAR
METHOD:PUBLISH
VERSION:2.0
PRODID:-//DG Official Visit-Jackson Butts//Calendar//EN

BEGIN:VEVENT
SUMMARY:DG Official Visit-Jackson Butts
DESCRIPTION:
X-ALT-DESC:
UID:Event7083
DTSTART:20231107T170000Z
DTEND:20231107T170000Z
DTSTAMP:20230521T005517Z
LAST-MODIFIED:20230521T010929Z
END:VEVENT

END:VCALENDAR