BEGIN:VCALENDAR
METHOD:PUBLISH
VERSION:2.0
PRODID:-//DG Official Visit- Forsyth//Calendar//EN

BEGIN:VEVENT
SUMMARY:DG Official Visit- Forsyth
DESCRIPTION:
X-ALT-DESC:
UID:Event7084
DTSTART:20231102T160000Z
DTEND:20231102T160000Z
DTSTAMP:20230521T005537Z
LAST-MODIFIED:20230521T005537Z
END:VEVENT

END:VCALENDAR