BEGIN:VCALENDAR
METHOD:PUBLISH
VERSION:2.0
PRODID:-//DG Official Visit-Emory Druid Hills//Calendar//EN

BEGIN:VEVENT
SUMMARY:DG Official Visit-Emory Druid Hills
DESCRIPTION:
X-ALT-DESC:
UID:Event7086
DTSTART:20231220T173000Z
DTEND:20231220T173000Z
DTSTAMP:20230521T010104Z
LAST-MODIFIED:20230521T010104Z
END:VEVENT

END:VCALENDAR