BEGIN:VCALENDAR
METHOD:PUBLISH
VERSION:2.0
PRODID:-//DG Official Visit- Brookhaven//Calendar//EN

BEGIN:VEVENT
SUMMARY:DG Official Visit- Brookhaven
DESCRIPTION:
X-ALT-DESC:
UID:Event7087
DTSTART:20231101T160000Z
DTEND:20231101T160000Z
DTSTAMP:20230521T010136Z
LAST-MODIFIED:20230521T010136Z
END:VEVENT

END:VCALENDAR