BEGIN:VCALENDAR
METHOD:PUBLISH
VERSION:2.0
PRODID:-//DG Official Visit-Thomasville//Calendar//EN

BEGIN:VEVENT
SUMMARY:DG Official Visit-Thomasville
DESCRIPTION:
X-ALT-DESC:
UID:Event7091
DTSTART:20231109T171500Z
DTEND:20231109T171500Z
DTSTAMP:20230521T010830Z
LAST-MODIFIED:20230521T010830Z
END:VEVENT

END:VCALENDAR