BEGIN:VCALENDAR
METHOD:PUBLISH
VERSION:2.0
PRODID:-//DG Official Visit-Cuthbert//Calendar//EN

BEGIN:VEVENT
SUMMARY:DG Official Visit-Cuthbert
DESCRIPTION:
X-ALT-DESC:
UID:Event7092
DTSTART:20240116T050000Z
DTEND:20240116T050000Z
DTSTAMP:20230521T011242Z
LAST-MODIFIED:20230521T011242Z
END:VEVENT

END:VCALENDAR