BEGIN:VCALENDAR
METHOD:PUBLISH
VERSION:2.0
PRODID:-//DG Johns Creek-Black History//Calendar//EN

BEGIN:VEVENT
SUMMARY:DG Johns Creek-Black History
DESCRIPTION:
X-ALT-DESC:
UID:Event7094
DTSTART:20240207T170000Z
DTEND:20240207T170000Z
DTSTAMP:20230521T011449Z
LAST-MODIFIED:20230521T011449Z
END:VEVENT

END:VCALENDAR