BEGIN:VCALENDAR
METHOD:PUBLISH
VERSION:2.0
PRODID:-//Finance Committee Meeting//Calendar//EN

BEGIN:VEVENT
SUMMARY:Finance Committee Meeting
DESCRIPTION:
X-ALT-DESC:
UID:Event7095
DTSTART:20240116T230000Z
DTEND:20240116T230000Z
DTSTAMP:20230521T011519Z
LAST-MODIFIED:20231230T224409Z
END:VEVENT

END:VCALENDAR