BEGIN:VCALENDAR
METHOD:PUBLISH
VERSION:2.0
PRODID:-//Miss Mary's Ice Cream Crankin'//Calendar//EN

BEGIN:VEVENT
SUMMARY:North Fulton | Miss Mary's Ice Cream Crankin'
DESCRIPTION:Come join the North Fulton community at the 19th Annual event to support the Drake House.First Baptist Church
X-ALT-DESC:<p>Come join the North Fulton community at the 19th Annual event to support the Drake House.</p><p>First Baptist Church</p>
UID:Event7149
DTSTART:20230827T060000Z
DTEND:20230827T080000Z
DTSTAMP:20230630T201203Z
LAST-MODIFIED:20230630T201203Z
END:VEVENT

END:VCALENDAR