BEGIN:VCALENDAR
METHOD:PUBLISH
VERSION:2.0
PRODID:-//Planning & Advisory Committee Meeting//Calendar//EN

BEGIN:VEVENT
SUMMARY:Planning & Advisory Committee Meeting
DESCRIPTION:
X-ALT-DESC:
UID:Event7168
DTSTART:20231002T213000Z
DTEND:20231002T213000Z
DTSTAMP:20230706T002343Z
LAST-MODIFIED:20230706T002343Z
END:VEVENT

END:VCALENDAR