BEGIN:VCALENDAR
METHOD:PUBLISH
VERSION:2.0
PRODID:-//Finance Committee Meeting//Calendar//EN

BEGIN:VEVENT
SUMMARY:Finance Committee Meeting
DESCRIPTION:
X-ALT-DESC:
UID:Event7169
DTSTART:20231120T223000Z
DTEND:20231120T223000Z
DTSTAMP:20230706T003826Z
LAST-MODIFIED:20230706T003826Z
END:VEVENT

END:VCALENDAR