BEGIN:VCALENDAR
METHOD:PUBLISH
VERSION:2.0
PRODID:-//Thanksgiving Holidays//Calendar//EN

BEGIN:VEVENT
SUMMARY:Thanksgiving Holidays
DESCRIPTION:
X-ALT-DESC:
UID:Event7170
DTSTART:20231123T050000Z
DTEND:20231124T050000Z
DTSTAMP:20230706T004128Z
LAST-MODIFIED:20230706T004128Z
END:VEVENT

END:VCALENDAR