BEGIN:VCALENDAR
METHOD:PUBLISH
VERSION:2.0
PRODID:-//Rotary Youth Exchange scholarship Parents' and Students' Information Session - Atlanta//Calendar//EN

BEGIN:VEVENT
SUMMARY:Rotary Youth Exchange scholarship Parents' and Students' Information Session - Atlanta
DESCRIPTION:The Rotary Youth Exchange scholarship program is available to high school students\, ages 14 - 17\, in Georgia.  Scholarship applications for the 2024 - 2025 school year are open August 1\, 2023 through October 15\, 2023.  To learn more about Rotary Youth Exchange and our scholarship program\, students\, parents\, educators\, and Rotarians should attend one of our regional Information Sessions.  The sessions are open to all\, but advanced registration is required.  To register for a session\, please visit ryese.org/district-6900/6900-application-info/
X-ALT-DESC:<p>The <b>Rotary Youth Exchange scholarship</b> program is available to high school students, ages 14 - 17, in Georgia. &nbsp;Scholarship applications for the 2024 - 2025 school year are open August 1, 2023 through October 15, 2023. &nbsp;To learn more about Rotary Youth Exchange and our scholarship program, students, parents, educators, and Rotarians should attend one of our regional Information Sessions. &nbsp;The sessions are open to all, but advanced registration is required. &nbsp;To register for a session, please visit&nbsp;<a href="https://www.ryese.org/district-6900/6900-application-info/" style="font-family: sans-serif;">ryese.org/district-6900/6900-application-info/</a><br></p>
UID:Event7184
DTSTART:20230809T220000Z
DTEND:20230809T233000Z
DTSTAMP:20230710T001612Z
LAST-MODIFIED:20230710T002157Z
END:VEVENT

END:VCALENDAR