BEGIN:VCALENDAR
METHOD:PUBLISH
VERSION:2.0
PRODID:-//Rotary Youth Exchange - The Big Reveal!//Calendar//EN

BEGIN:VEVENT
SUMMARY:Rotary Youth Exchange - The Big Reveal!
DESCRIPTION:Rotary Youth Exchange scholarship recipients and their families will learn which country and language have been assigned to them for their upcoming year as a Rotary Youth Exchange student.
X-ALT-DESC:<p><b>Rotary Youth Exchange scholarship</b> recipients and their families will learn which country and language have been assigned to them for their upcoming year as a Rotary Youth Exchange student.</p>
UID:Event7187
DTSTART:20231213T230000Z
DTEND:20231214T010000Z
DTSTAMP:20230710T003223Z
LAST-MODIFIED:20230710T003223Z
END:VEVENT

END:VCALENDAR