BEGIN:VCALENDAR
METHOD:PUBLISH
VERSION:2.0
PRODID:-//Monthly call of Rotary Youth Exchange volunteers//Calendar//EN

BEGIN:VEVENT
SUMMARY:Monthly call of Rotary Youth Exchange volunteers
DESCRIPTION:
X-ALT-DESC:
UID:Event7249
DTSTART:20230817T213000Z
DTEND:20230817T223000Z
DTSTAMP:20230719T172954Z
LAST-MODIFIED:20230719T172954Z
END:VEVENT

END:VCALENDAR