BEGIN:VCALENDAR
METHOD:PUBLISH
VERSION:2.0
PRODID:-//Monthly call of Rotary Youth Exchange volunteers//Calendar//EN

BEGIN:VEVENT
SUMMARY:Monthly call of Rotary Youth Exchange volunteers
DESCRIPTION:
X-ALT-DESC:
UID:Event7250
DTSTART:20230921T213000Z
DTEND:20230921T223000Z
DTSTAMP:20230719T173110Z
LAST-MODIFIED:20230719T173110Z
END:VEVENT

END:VCALENDAR