BEGIN:VCALENDAR
METHOD:PUBLISH
VERSION:2.0
PRODID:-//Monthly call of Rotary Youth Exchange volunteers//Calendar//EN

BEGIN:VEVENT
SUMMARY:Monthly call of Rotary Youth Exchange volunteers
DESCRIPTION:
X-ALT-DESC:
UID:Event7251
DTSTART:20231019T213000Z
DTEND:20231019T223000Z
DTSTAMP:20230719T173200Z
LAST-MODIFIED:20230719T173200Z
END:VEVENT

END:VCALENDAR