BEGIN:VCALENDAR
METHOD:PUBLISH
VERSION:2.0
PRODID:-//Monthly call of Rotary Youth Exchange volunteers//Calendar//EN

BEGIN:VEVENT
SUMMARY:Monthly call of Rotary Youth Exchange volunteers
DESCRIPTION:
X-ALT-DESC:
UID:Event7253
DTSTART:20231221T223000Z
DTEND:20231221T233000Z
DTSTAMP:20230719T173405Z
LAST-MODIFIED:20230719T173405Z
END:VEVENT

END:VCALENDAR