BEGIN:VCALENDAR
METHOD:PUBLISH
VERSION:2.0
PRODID:-//Monthly call of Rotary Youth Exchange volunteers//Calendar//EN

BEGIN:VEVENT
SUMMARY:Monthly call of Rotary Youth Exchange volunteers
DESCRIPTION:
X-ALT-DESC:
UID:Event7257
DTSTART:20240418T213000Z
DTEND:20240418T223000Z
DTSTAMP:20230719T173729Z
LAST-MODIFIED:20230719T173729Z
END:VEVENT

END:VCALENDAR