BEGIN:VCALENDAR
METHOD:PUBLISH
VERSION:2.0
PRODID:-//Rotary Youth Exchange scholarship candidate in-home interviews deadline//Calendar//EN

BEGIN:VEVENT
SUMMARY:Rotary Youth Exchange scholarship candidate in-home interviews deadline
DESCRIPTION:Rotary Youth Exchange club level in-home interviews for applicants to the Outbound program scholarship must be completed no later than Friday\, October 27\, 2023
X-ALT-DESC:<p>Rotary Youth Exchange club level in-home interviews for applicants to the Outbound program scholarship must be completed no later than Friday, October 27, 2023</p>
UID:Event7261
DTSTART:20231027T040000Z
DTEND:20231027T040000Z
DTSTAMP:20230719T175031Z
LAST-MODIFIED:20230719T175031Z
END:VEVENT

END:VCALENDAR