BEGIN:VCALENDAR
METHOD:PUBLISH
VERSION:2.0
PRODID:-//DG Official Visit-Stone Mountain//Calendar//EN

BEGIN:VEVENT
SUMMARY:DG Official Visit-Stone Mountain
DESCRIPTION:
X-ALT-DESC:
UID:Event7450
DTSTART:20240123T050000Z
DTEND:20240123T050000Z
DTSTAMP:20231011T185547Z
LAST-MODIFIED:20231011T185547Z
END:VEVENT

END:VCALENDAR