BEGIN:VCALENDAR
METHOD:PUBLISH
VERSION:2.0
PRODID:-//DG Official Visit-Atlanta//Calendar//EN

BEGIN:VEVENT
SUMMARY:DG Official Visit-Atlanta
DESCRIPTION:
X-ALT-DESC:
UID:Event7460
DTSTART:20240122T170000Z
DTEND:20240122T180000Z
DTSTAMP:20231020T184113Z
LAST-MODIFIED:20231020T184113Z
END:VEVENT

END:VCALENDAR