BEGIN:VCALENDAR
METHOD:PUBLISH
VERSION:2.0
PRODID:-//DG Official Visit//Calendar//EN

BEGIN:VEVENT
SUMMARY:Stone Mountain | DG Official Visit
DESCRIPTION:DG Official Visit - Board Meeting 5:00 p.m. ; Reception 6:00 p.m.
X-ALT-DESC:<p>DG Official Visit - Board Meeting 5:00 p.m. ; Reception 6:00 p.m.<br></p>
UID:Event7510
DTSTART:20240122T220000Z
DTEND:20240123T010000Z
DTSTAMP:20231202T080009Z
LAST-MODIFIED:20231202T080009Z
END:VEVENT

END:VCALENDAR