BEGIN:VCALENDAR
METHOD:PUBLISH
VERSION:2.0
PRODID:-//Rotary Means Business //Calendar//EN

BEGIN:VEVENT
SUMMARY:Rotary Means Business 
DESCRIPTION:Note we are meeting on the fourth Tuesday of the monthIronhill Brewery and Restaurant - Perimeter 1224 Hammond Dr NE \, Atlanta\, GA 30346 
X-ALT-DESC:<p>Note we are meeting on the fourth Tuesday of the month</p><p>Ironhill Brewery and Restaurant - Perimeter</p><p> 1224 Hammond Dr NE , Atlanta, GA 30346 <br></p>
UID:Event7537
DTSTART:20240227T230000Z
DTEND:20240228T010000Z
DTSTAMP:20231231T203426Z
LAST-MODIFIED:20231231T203525Z
END:VEVENT

END:VCALENDAR