BEGIN:VCALENDAR
METHOD:PUBLISH
VERSION:2.0
PRODID:-//Rotary Means Business//Calendar//EN

BEGIN:VEVENT
SUMMARY:Rotary Means Business
DESCRIPTION:Politan Row at Ashford LaneJust north of Perimeter Mall4550 Olde Perimeter Way\, Dunwoody\, GA 30346 | Free parking in deck behind the buildingRegister online for a free beer or wine: Click here to get your first beer or wine free  
X-ALT-DESC:<p>Politan Row at Ashford Lane</p><p>Just north of Perimeter Mall</p><p>4550 Olde Perimeter Way, Dunwoody, GA 30346 | Free parking in deck behind the building</p><p>Register online for a free beer or wine:&nbsp;<a href="https://url.emailprotection.link/?bx_kZGgX0LX4E1TVwy_8XIIX09l6Qht6_01siz5ixD-xoOW2ClHFbieFh8h3Xy4aWMyvw5h8S5acKqP5kvUdwDJGDZwdtVKM7ehQ2Dtn4ye6afz8YIhY-lZquWnHJntyJrj8hjLj0pcgSowneUKs-Yjiv1Oq3M-1S9PTGESje1Ro~" target="_blank">Click here to get your first beer or wine free</a></p><p>&nbsp;&nbsp;</p><div><br></div>
UID:Event7539
DTSTART:20240423T220000Z
DTEND:20240424T000000Z
DTSTAMP:20231231T203426Z
LAST-MODIFIED:20240414T174258Z
END:VEVENT

END:VCALENDAR