BEGIN:VCALENDAR
METHOD:PUBLISH
VERSION:2.0
PRODID:-//REGISTRATION IS NOW CLOSED for Rotary Sheffield Gala & Silent Auction//Calendar//EN

BEGIN:VEVENT
SUMMARY:Americus | REGISTRATION IS NOW CLOSED for Rotary Sheffield Gala & Silent Auction
DESCRIPTION:6 pm Cocktail Social and Silent Auction ~ 7 pm Dinner and ProgramNOTE: Americus Trolley will provide round-trip transportation between Windsor Hotel and the Gala throughout the evening.
X-ALT-DESC:<p>6 pm Cocktail Social and Silent Auction ~&nbsp;<span style="background-color: var(--bs-body-bg); font-size: var(--bs-body-font-size); font-weight: var(--bs-body-font-weight); text-align: var(--bs-body-text-align);">7 pm Dinner and Program</span></p><p>NOTE: Americus Trolley will provide round-trip transportation between Windsor Hotel and the Gala throughout the evening.</p><p><br></p>
UID:Event7768
DTSTART:20240727T220000Z
DTEND:20240728T020000Z
DTSTAMP:20230418T235515Z
LAST-MODIFIED:20240726T184532Z
END:VEVENT

END:VCALENDAR