BEGIN:VCALENDAR
METHOD:PUBLISH
VERSION:2.0
PRODID:-//Rotary Means Business //Calendar//EN

BEGIN:VEVENT
SUMMARY:Rotary Means Business 
DESCRIPTION:Politan Row at Ashford Lane (near Perimeter Mall)
X-ALT-DESC:<p>Politan Row at Ashford Lane (near Perimeter Mall)</p>
UID:Event7852
DTSTART:20240723T220000Z
DTEND:20240724T000000Z
DTSTAMP:20231231T203426Z
LAST-MODIFIED:20240629T165919Z
END:VEVENT

END:VCALENDAR