BEGIN:VCALENDAR
METHOD:PUBLISH
VERSION:2.0
PRODID:-//Cuthbert Official Visit//Calendar//EN

BEGIN:VEVENT
SUMMARY:Cuthbert Official Visit
DESCRIPTION:
X-ALT-DESC:
UID:Event7870
DTSTART:20240723T160000Z
DTEND:20240723T180000Z
DTSTAMP:20240705T013323Z
LAST-MODIFIED:20240705T013411Z
END:VEVENT

END:VCALENDAR