BEGIN:VCALENDAR
METHOD:PUBLISH
VERSION:2.0
PRODID:-//Cordele Official Visit//Calendar//EN

BEGIN:VEVENT
SUMMARY:Cordele Official Visit
DESCRIPTION:
X-ALT-DESC:
UID:Event7871
DTSTART:20240724T040000Z
DTEND:20240724T040000Z
DTSTAMP:20240705T013442Z
LAST-MODIFIED:20240705T013442Z
END:VEVENT

END:VCALENDAR