BEGIN:VCALENDAR
METHOD:PUBLISH
VERSION:2.0
PRODID:-//Blakely Official Visit//Calendar//EN

BEGIN:VEVENT
SUMMARY:Blakely Official Visit
DESCRIPTION:
X-ALT-DESC:
UID:Event7872
DTSTART:20240725T160000Z
DTEND:20240725T180000Z
DTSTAMP:20240705T013651Z
LAST-MODIFIED:20240705T013651Z
END:VEVENT

END:VCALENDAR