BEGIN:VCALENDAR
METHOD:PUBLISH
VERSION:2.0
PRODID:-//Atlanta Official Visit//Calendar//EN

BEGIN:VEVENT
SUMMARY:Atlanta Official Visit
DESCRIPTION:
X-ALT-DESC:
UID:Event7873
DTSTART:20240729T120000Z
DTEND:20240729T200000Z
DTSTAMP:20240705T013845Z
LAST-MODIFIED:20240705T014047Z
END:VEVENT

END:VCALENDAR