BEGIN:VCALENDAR
METHOD:PUBLISH
VERSION:2.0
PRODID:-//Miss Mary's Ice Cream//Calendar//EN

BEGIN:VEVENT
SUMMARY:North Fulton | Miss Mary's Ice Cream
DESCRIPTION:Members make Ice Cream to be sold for a fundraiser to support the Drake House.
X-ALT-DESC:<p>Members make Ice Cream to be sold for a fundraiser to support the Drake House.</p>
UID:Event7889
DTSTART:20240825T170000Z
DTEND:20240825T200000Z
DTSTAMP:20240708T035053Z
LAST-MODIFIED:20240927T215530Z
END:VEVENT

END:VCALENDAR