BEGIN:VCALENDAR
METHOD:PUBLISH
VERSION:2.0
PRODID:-//Calling All Presidents-Elect - Zoom - Hot Topics//Calendar//EN

BEGIN:VEVENT
SUMMARY:Calling All Presidents-Elect - Zoom - Hot Topics
DESCRIPTION:This session will help you to remember those things you may have forgotten that will make you an effective leader.JOIN US!
X-ALT-DESC:<p>This session will help you to remember those things you may have forgotten that will make you an effective leader.</p><p><a href="https://us02web.zoom.us/j/87883099971?pwd=3HTf218BxiDx3PYL0GH7Q3oniU8bHJ.1" target="_blank">JOIN US!</a><br></p>
UID:Event8060
DTSTART:20250102T230000Z
DTEND:20250103T000000Z
DTSTAMP:20240906T191316Z
LAST-MODIFIED:20240906T191748Z
END:VEVENT

END:VCALENDAR