BEGIN:VCALENDAR
METHOD:PUBLISH
VERSION:2.0
PRODID:-//Cotton Fair//Calendar//EN

BEGIN:VEVENT
SUMMARY:Meriwether County | Cotton Fair
DESCRIPTION:Come join us at the Rotary booth for the best hot dogs in Georgia
X-ALT-DESC:<p>Come join us at the Rotary booth for the best hot dogs in Georgia</p>
UID:Event8126
DTSTART:20241005T130000Z
DTEND:20241006T210000Z
DTSTAMP:20240925T193959Z
LAST-MODIFIED:20240926T002339Z
END:VEVENT

END:VCALENDAR