BEGIN:VCALENDAR
METHOD:PUBLISH
VERSION:2.0
PRODID:-//Official Visit - Cairo Father Daughter Dance//Calendar//EN

BEGIN:VEVENT
SUMMARY:Official Visit - Cairo Father Daughter Dance
DESCRIPTION:
X-ALT-DESC:
UID:Event8364
DTSTART:20250215T050000Z
DTEND:20250215T050000Z
DTSTAMP:20250205T045852Z
LAST-MODIFIED:20250205T045852Z
END:VEVENT

END:VCALENDAR