BEGIN:VCALENDAR
METHOD:PUBLISH
VERSION:2.0
PRODID:-//Official Visit - Buckhead//Calendar//EN

BEGIN:VEVENT
SUMMARY:Official Visit - Buckhead
DESCRIPTION:
X-ALT-DESC:
UID:Event8369
DTSTART:20250224T050000Z
DTEND:20250224T050000Z
DTSTAMP:20250205T050243Z
LAST-MODIFIED:20250205T050243Z
END:VEVENT

END:VCALENDAR