BEGIN:VCALENDAR
METHOD:PUBLISH
VERSION:2.0
PRODID:-//Board Meeting//Calendar//EN

BEGIN:VEVENT
SUMMARY:North Fulton | Board Meeting
DESCRIPTION:Board Meeting at American Pride Bank6503 North Point Pkwy\, Alpharetta\, GA
X-ALT-DESC:<p>Board Meeting at American Pride Bank</p><p>6503 North Point Pkwy, Alpharetta, GA</p>
UID:Event8708
DTSTART:20250716T203000Z
DTEND:20250716T220000Z
DTSTAMP:20250701T064208Z
LAST-MODIFIED:20250701T064208Z
END:VEVENT

END:VCALENDAR